Package: globaltest Version: 5.58.0 Command: /home/biocbuild/R/R-beta-2024-04-15_r86425/bin/R CMD check --install=check:globaltest.install-out.txt --library=/home/biocbuild/R/R-beta-2024-04-15_r86425/site-library --no-vignettes --timings globaltest_5.58.0.tar.gz StartedAt: 2024-05-09 07:57:39 -0000 (Thu, 09 May 2024) EndedAt: 2024-05-09 08:00:20 -0000 (Thu, 09 May 2024) EllapsedTime: 161.3 seconds RetCode: 0 Status: OK CheckDir: globaltest.Rcheck Warnings: 0