Package: globalSeq Version: 1.32.0 Command: /Library/Frameworks/R.framework/Resources/bin/R CMD check --install=check:globalSeq.install-out.txt --library=/Library/Frameworks/R.framework/Resources/library --no-vignettes --timings globalSeq_1.32.0.tar.gz StartedAt: 2024-10-17 23:27:24 -0400 (Thu, 17 Oct 2024) EndedAt: 2024-10-17 23:28:14 -0400 (Thu, 17 Oct 2024) EllapsedTime: 50.2 seconds RetCode: 1 Status: ERROR CheckDir: globalSeq.Rcheck Warnings: NA