Package: glmGamPoi Version: 1.16.0 Command: chmod a+r glmGamPoi -R && F:\biocbuild\bbs-3.19-bioc\R\bin\R.exe CMD build --keep-empty-dirs --no-resave-data glmGamPoi StartedAt: 2024-06-26 19:13:54 -0400 (Wed, 26 Jun 2024) EndedAt: 2024-06-26 19:28:33 -0400 (Wed, 26 Jun 2024) EllapsedTime: 879.6 seconds RetCode: 0 Status: OK PackageFile: glmGamPoi_1.16.0.tar.gz PackageFileSize: 1.675 MiB