Package: glmGamPoi Version: 1.16.0 Command: /home/biocbuild/bbs-3.19-bioc/R/bin/R CMD INSTALL glmGamPoi StartedAt: 2024-10-16 16:00:01 -0400 (Wed, 16 Oct 2024) EndedAt: 2024-10-16 16:01:08 -0400 (Wed, 16 Oct 2024) EllapsedTime: 66.8 seconds RetCode: 0 Status: OK