Package: glmGamPoi Version: 1.16.0 Command: /home/biocbuild/bbs-3.19-bioc/R/bin/R CMD build --keep-empty-dirs --no-resave-data glmGamPoi StartedAt: 2024-10-16 18:44:40 -0400 (Wed, 16 Oct 2024) EndedAt: 2024-10-16 18:52:29 -0400 (Wed, 16 Oct 2024) EllapsedTime: 468.8 seconds RetCode: 0 Status: OK PackageFile: glmGamPoi_1.16.0.tar.gz PackageFileSize: 2.008 MiB