Package: glmGamPoi Version: 1.16.0 Command: /Library/Frameworks/R.framework/Resources/bin/R CMD check --install=check:glmGamPoi.install-out.txt --library=/Library/Frameworks/R.framework/Resources/library --no-vignettes --timings glmGamPoi_1.16.0.tar.gz StartedAt: 2024-06-09 20:41:28 -0400 (Sun, 09 Jun 2024) EndedAt: 2024-06-09 20:44:55 -0400 (Sun, 09 Jun 2024) EllapsedTime: 207.4 seconds RetCode: 0 Status: OK CheckDir: glmGamPoi.Rcheck Warnings: 0