Package: glmGamPoi Version: 1.16.0 Command: /home/biocbuild/R/R-beta-2024-04-15_r86425/bin/R CMD check --install=check:glmGamPoi.install-out.txt --library=/home/biocbuild/R/R-beta-2024-04-15_r86425/site-library --no-vignettes --timings glmGamPoi_1.16.0.tar.gz StartedAt: 2024-05-09 07:56:58 -0000 (Thu, 09 May 2024) EndedAt: 2024-05-09 08:01:03 -0000 (Thu, 09 May 2024) EllapsedTime: 244.5 seconds RetCode: 0 Status: OK CheckDir: glmGamPoi.Rcheck Warnings: 0