Package: glmGamPoi Version: 1.16.0 Command: /home/biocbuild/R/R-beta-2024-04-15_r86425/bin/R CMD build --keep-empty-dirs --no-resave-data glmGamPoi StartedAt: 2024-05-09 00:38:04 -0000 (Thu, 09 May 2024) EndedAt: 2024-05-09 00:49:22 -0000 (Thu, 09 May 2024) EllapsedTime: 677.9 seconds RetCode: 0 Status: OK PackageFile: glmGamPoi_1.16.0.tar.gz PackageFileSize: 1.814 MiB