Package: glmGamPoi Version: 1.16.0 Command: /Library/Frameworks/R.framework/Resources/bin/R CMD build --keep-empty-dirs --no-resave-data glmGamPoi StartedAt: 2024-10-17 01:24:20 -0400 (Thu, 17 Oct 2024) EndedAt: 2024-10-17 01:37:15 -0400 (Thu, 17 Oct 2024) EllapsedTime: 774.6 seconds RetCode: 0 Status: OK PackageFile: glmGamPoi_1.16.0.tar.gz PackageFileSize: 2.083 MiB