Package: girafe Version: 1.56.0 Command: chmod a+r girafe -R && E:\biocbuild\bbs-3.19-bioc\R\bin\R.exe CMD build --keep-empty-dirs --no-resave-data girafe StartedAt: 2024-10-16 19:28:29 -0400 (Wed, 16 Oct 2024) EndedAt: 2024-10-16 19:29:50 -0400 (Wed, 16 Oct 2024) EllapsedTime: 81.1 seconds RetCode: 0 Status: OK PackageFile: girafe_1.56.0.tar.gz PackageFileSize: 1.262 MiB