Package: girafe Version: 1.56.0 Command: rm -rf girafe.buildbin-libdir && mkdir girafe.buildbin-libdir && E:\biocbuild\bbs-3.19-bioc\R\bin\R.exe CMD INSTALL --build --library=girafe.buildbin-libdir girafe_1.56.0.tar.gz StartedAt: 2024-10-17 07:53:39 -0400 (Thu, 17 Oct 2024) EndedAt: 2024-10-17 07:54:58 -0400 (Thu, 17 Oct 2024) EllapsedTime: 78.5 seconds RetCode: 0 Status: OK PackageFile: girafe_1.56.0.zip PackageFileSize: 2.049 MiB