Package: girafe Version: 1.56.0 Command: /Library/Frameworks/R.framework/Resources/bin/R CMD build --keep-empty-dirs --no-resave-data girafe StartedAt: 2024-10-16 19:37:43 -0400 (Wed, 16 Oct 2024) EndedAt: 2024-10-16 19:40:21 -0400 (Wed, 16 Oct 2024) EllapsedTime: 158.6 seconds RetCode: 0 Status: OK PackageFile: girafe_1.56.0.tar.gz PackageFileSize: 1.541 MiB