Package: girafe Version: 1.56.0 Command: rm -rf girafe.buildbin-libdir && mkdir girafe.buildbin-libdir && /Users/biocbuild/BBS/utils/build-universal.sh girafe_1.56.0.tar.gz /Library/Frameworks/R.framework/Resources/bin/R girafe.buildbin-libdir StartedAt: 2024-06-11 11:27:14 -0400 (Tue, 11 Jun 2024) EndedAt: 2024-06-11 11:28:34 -0400 (Tue, 11 Jun 2024) EllapsedTime: 80.4 seconds RetCode: 0 Status: OK PackageFile: girafe_1.56.0.tgz PackageFileSize: 2.353 MiB