Package: girafe Version: 1.56.0 Command: /Library/Frameworks/R.framework/Resources/bin/R CMD INSTALL girafe StartedAt: 2024-10-16 16:52:10 -0400 (Wed, 16 Oct 2024) EndedAt: 2024-10-16 16:52:55 -0400 (Wed, 16 Oct 2024) EllapsedTime: 44.8 seconds RetCode: 0 Status: OK