Package: girafe Version: 1.56.0 Command: /Library/Frameworks/R.framework/Resources/bin/R CMD build --keep-empty-dirs --no-resave-data girafe StartedAt: 2024-10-17 01:22:35 -0400 (Thu, 17 Oct 2024) EndedAt: 2024-10-17 01:23:52 -0400 (Thu, 17 Oct 2024) EllapsedTime: 77.4 seconds RetCode: 0 Status: OK PackageFile: girafe_1.56.0.tar.gz PackageFileSize: 1.54 MiB