Package: girafe Version: 1.56.0 Command: rm -rf girafe.buildbin-libdir && mkdir girafe.buildbin-libdir && /Users/biocbuild/BBS/utils/build-universal.sh girafe_1.56.0.tar.gz /Library/Frameworks/R.framework/Resources/bin/R girafe.buildbin-libdir StartedAt: 2024-10-18 18:44:57 -0400 (Fri, 18 Oct 2024) EndedAt: 2024-10-18 18:45:54 -0400 (Fri, 18 Oct 2024) EllapsedTime: 56.8 seconds RetCode: 0 Status: OK PackageFile: girafe_1.56.0.tgz PackageFileSize: 2.353 MiB