Package: ginmappeR Version: 1.0.5 Command: E:\biocbuild\bbs-3.19-bioc\R\bin\R.exe CMD INSTALL ginmappeR StartedAt: 2024-10-16 16:36:51 -0400 (Wed, 16 Oct 2024) EndedAt: 2024-10-16 16:37:29 -0400 (Wed, 16 Oct 2024) EllapsedTime: 38.1 seconds RetCode: 0 Status: OK