Package: ginmappeR Version: 1.0.5 Command: chmod a+r ginmappeR -R && E:\biocbuild\bbs-3.19-bioc\R\bin\R.exe CMD build --keep-empty-dirs --no-resave-data ginmappeR StartedAt: 2024-10-16 19:28:14 -0400 (Wed, 16 Oct 2024) EndedAt: 2024-10-16 19:31:14 -0400 (Wed, 16 Oct 2024) EllapsedTime: 179.9 seconds RetCode: 0 Status: OK PackageFile: ginmappeR_1.0.5.tar.gz PackageFileSize: 674.3 KiB