Package: ginmappeR Version: 1.0.5 Command: /home/biocbuild/bbs-3.19-bioc/R/bin/R CMD check --install=check:ginmappeR.install-out.txt --library=/home/biocbuild/bbs-3.19-bioc/R/site-library --timings ginmappeR_1.0.5.tar.gz StartedAt: 2024-10-17 00:57:50 -0400 (Thu, 17 Oct 2024) EndedAt: 2024-10-17 01:06:52 -0400 (Thu, 17 Oct 2024) EllapsedTime: 542.0 seconds RetCode: 0 Status: OK CheckDir: ginmappeR.Rcheck Warnings: 0