Package: ginmappeR Version: 1.0.5 Command: /Library/Frameworks/R.framework/Resources/bin/R CMD check --install=check:ginmappeR.install-out.txt --library=/Library/Frameworks/R.framework/Resources/library --no-vignettes --timings ginmappeR_1.0.5.tar.gz StartedAt: 2024-10-17 06:08:41 -0400 (Thu, 17 Oct 2024) EndedAt: 2024-10-17 06:22:48 -0400 (Thu, 17 Oct 2024) EllapsedTime: 847.7 seconds RetCode: 1 Status: ERROR CheckDir: ginmappeR.Rcheck Warnings: NA