Package: ginmappeR Version: 1.0.5 Command: /Library/Frameworks/R.framework/Resources/bin/R CMD build --keep-empty-dirs --no-resave-data ginmappeR StartedAt: 2024-10-16 19:37:29 -0400 (Wed, 16 Oct 2024) EndedAt: 2024-10-16 19:43:07 -0400 (Wed, 16 Oct 2024) EllapsedTime: 338.4 seconds RetCode: 0 Status: OK PackageFile: ginmappeR_1.0.5.tar.gz PackageFileSize: 673.9 KiB