Package: ginmappeR Version: 1.0.5 Command: rm -rf ginmappeR.buildbin-libdir && mkdir ginmappeR.buildbin-libdir && /Users/biocbuild/BBS/utils/build-universal.sh ginmappeR_1.0.5.tar.gz /Library/Frameworks/R.framework/Resources/bin/R ginmappeR.buildbin-libdir StartedAt: 2024-10-17 16:16:39 -0400 (Thu, 17 Oct 2024) EndedAt: 2024-10-17 16:17:25 -0400 (Thu, 17 Oct 2024) EllapsedTime: 46.7 seconds RetCode: 0 Status: OK PackageFile: ginmappeR_1.0.5.tgz PackageFileSize: 670.5 KiB