Package: ginmappeR Version: 1.0.0 Command: /Library/Frameworks/R.framework/Resources/bin/R CMD INSTALL ginmappeR StartedAt: 2024-06-09 15:15:22 -0400 (Sun, 09 Jun 2024) EndedAt: 2024-06-09 15:15:44 -0400 (Sun, 09 Jun 2024) EllapsedTime: 22.0 seconds RetCode: 0 Status: OK