Package: ginmappeR Version: 1.0.0 Command: /Library/Frameworks/R.framework/Resources/bin/R CMD check --install=check:ginmappeR.install-out.txt --library=/Library/Frameworks/R.framework/Resources/library --no-vignettes --timings ginmappeR_1.0.0.tar.gz StartedAt: 2024-06-09 20:41:05 -0400 (Sun, 09 Jun 2024) EndedAt: 2024-06-09 20:46:12 -0400 (Sun, 09 Jun 2024) EllapsedTime: 306.6 seconds RetCode: 1 Status: ERROR CheckDir: ginmappeR.Rcheck Warnings: NA