Package: ginmappeR Version: 1.0.5 Maintainer: Fernando Sola MaintainerEmail: fsola at us.es git_url: https://git.bioconductor.org/packages/ginmappeR git_branch: RELEASE_3_19 git_last_commit: f195f37 git_last_commit_date: 2024-10-07 03:56:36 -0400 (Mon, 07 Oct 2024)