Package: ggtreeSpace Version: 1.0.0 Command: /home/biocbuild/R/R-beta-2024-04-15_r86425/bin/R CMD build --keep-empty-dirs --no-resave-data ggtreeSpace StartedAt: 2024-05-09 00:37:12 -0000 (Thu, 09 May 2024) EndedAt: 2024-05-09 00:37:37 -0000 (Thu, 09 May 2024) EllapsedTime: 25.0 seconds RetCode: 0 Status: OK PackageFile: ggtreeSpace_1.0.0.tar.gz PackageFileSize: 388.9 KiB