Package: ggtreeSpace Version: 1.0.0 Command: /Library/Frameworks/R.framework/Resources/bin/R CMD INSTALL ggtreeSpace StartedAt: 2024-10-16 17:09:52 -0400 (Wed, 16 Oct 2024) EndedAt: 2024-10-16 17:10:03 -0400 (Wed, 16 Oct 2024) EllapsedTime: 11.1 seconds RetCode: 0 Status: OK