Package: ggtreeExtra Version: 1.14.0 Command: chmod a+r ggtreeExtra -R && E:\biocbuild\bbs-3.19-bioc\R\bin\R.exe CMD build --keep-empty-dirs --no-resave-data ggtreeExtra StartedAt: 2024-10-16 19:28:02 -0400 (Wed, 16 Oct 2024) EndedAt: 2024-10-16 19:28:29 -0400 (Wed, 16 Oct 2024) EllapsedTime: 27.2 seconds RetCode: 0 Status: OK PackageFile: ggtreeExtra_1.14.0.tar.gz PackageFileSize: 200.2 KiB