Package: ggtreeExtra Version: 1.14.0 Command: rm -rf ggtreeExtra.buildbin-libdir && mkdir ggtreeExtra.buildbin-libdir && E:\biocbuild\bbs-3.19-bioc\R\bin\R.exe CMD INSTALL --build --library=ggtreeExtra.buildbin-libdir ggtreeExtra_1.14.0.tar.gz StartedAt: 2024-10-17 07:53:21 -0400 (Thu, 17 Oct 2024) EndedAt: 2024-10-17 07:53:52 -0400 (Thu, 17 Oct 2024) EllapsedTime: 30.7 seconds RetCode: 0 Status: OK PackageFile: ggtreeExtra_1.14.0.zip PackageFileSize: 333.3 KiB