Package: ggtreeExtra Version: 1.14.0 Command: /home/biocbuild/R/R-beta-2024-04-15_r86425/bin/R CMD check --install=check:ggtreeExtra.install-out.txt --library=/home/biocbuild/R/R-beta-2024-04-15_r86425/site-library --no-vignettes --timings ggtreeExtra_1.14.0.tar.gz StartedAt: 2024-05-09 07:54:23 -0000 (Thu, 09 May 2024) EndedAt: 2024-05-09 07:55:20 -0000 (Thu, 09 May 2024) EllapsedTime: 57.1 seconds RetCode: 0 Status: OK CheckDir: ggtreeExtra.Rcheck Warnings: 0