Package: ggtreeExtra Version: 1.14.0 Command: /home/biocbuild/R/R-beta-2024-04-15_r86425/bin/R CMD build --keep-empty-dirs --no-resave-data ggtreeExtra StartedAt: 2024-05-09 00:37:06 -0000 (Thu, 09 May 2024) EndedAt: 2024-05-09 00:37:32 -0000 (Thu, 09 May 2024) EllapsedTime: 26.0 seconds RetCode: 0 Status: OK PackageFile: ggtreeExtra_1.14.0.tar.gz PackageFileSize: 303.8 KiB