Package: ggtreeExtra Version: 1.14.0 Command: /Library/Frameworks/R.framework/Resources/bin/R CMD check --install=check:ggtreeExtra.install-out.txt --library=/Library/Frameworks/R.framework/Resources/library --no-vignettes --timings ggtreeExtra_1.14.0.tar.gz StartedAt: 2024-06-10 17:17:41 -0400 (Mon, 10 Jun 2024) EndedAt: 2024-06-10 17:19:26 -0400 (Mon, 10 Jun 2024) EllapsedTime: 105.3 seconds RetCode: 0 Status: OK CheckDir: ggtreeExtra.Rcheck Warnings: 0