Package: ggtreeExtra Version: 1.14.0 Command: /Library/Frameworks/R.framework/Resources/bin/R CMD build --keep-empty-dirs --no-resave-data ggtreeExtra StartedAt: 2024-10-17 01:21:54 -0400 (Thu, 17 Oct 2024) EndedAt: 2024-10-17 01:22:14 -0400 (Thu, 17 Oct 2024) EllapsedTime: 20.0 seconds RetCode: 0 Status: OK PackageFile: ggtreeExtra_1.14.0.tar.gz PackageFileSize: 933.1 KiB