Package: ggtreeExtra Version: 1.14.0 Maintainer: Shuangbin Xu MaintainerEmail: xshuangbin at 163.com git_url: https://git.bioconductor.org/packages/ggtreeExtra git_branch: RELEASE_3_19 git_last_commit: 7ae0c2e git_last_commit_date: 2024-04-30 11:25:43 -0400 (Tue, 30 Apr 2024)