Package: ggtreeDendro Version: 1.6.0 Command: chmod a+r ggtreeDendro -R && E:\biocbuild\bbs-3.19-bioc\R\bin\R.exe CMD build --keep-empty-dirs --no-resave-data ggtreeDendro StartedAt: 2024-10-16 19:27:42 -0400 (Wed, 16 Oct 2024) EndedAt: 2024-10-16 19:28:01 -0400 (Wed, 16 Oct 2024) EllapsedTime: 19.2 seconds RetCode: 0 Status: OK PackageFile: ggtreeDendro_1.6.0.tar.gz PackageFileSize: 148.3 KiB