Package: ggtreeDendro Version: 1.6.0 Command: rm -rf ggtreeDendro.buildbin-libdir && mkdir ggtreeDendro.buildbin-libdir && E:\biocbuild\bbs-3.19-bioc\R\bin\R.exe CMD INSTALL --build --library=ggtreeDendro.buildbin-libdir ggtreeDendro_1.6.0.tar.gz StartedAt: 2024-10-17 07:53:14 -0400 (Thu, 17 Oct 2024) EndedAt: 2024-10-17 07:53:29 -0400 (Thu, 17 Oct 2024) EllapsedTime: 15.5 seconds RetCode: 0 Status: OK PackageFile: ggtreeDendro_1.6.0.zip PackageFileSize: 176 KiB