Package: ggtreeDendro Version: 1.6.0 Command: /Library/Frameworks/R.framework/Resources/bin/R CMD check --install=check:ggtreeDendro.install-out.txt --library=/Library/Frameworks/R.framework/Resources/library --no-vignettes --timings ggtreeDendro_1.6.0.tar.gz StartedAt: 2024-10-17 06:06:14 -0400 (Thu, 17 Oct 2024) EndedAt: 2024-10-17 06:07:57 -0400 (Thu, 17 Oct 2024) EllapsedTime: 103.2 seconds RetCode: 0 Status: OK CheckDir: ggtreeDendro.Rcheck Warnings: 0