Package: ggtreeDendro Version: 1.6.0 Command: /Library/Frameworks/R.framework/Resources/bin/R CMD build --keep-empty-dirs --no-resave-data ggtreeDendro StartedAt: 2024-10-16 19:36:56 -0400 (Wed, 16 Oct 2024) EndedAt: 2024-10-16 19:37:30 -0400 (Wed, 16 Oct 2024) EllapsedTime: 33.9 seconds RetCode: 0 Status: OK PackageFile: ggtreeDendro_1.6.0.tar.gz PackageFileSize: 407.9 KiB