Package: ggtreeDendro Version: 1.6.0 Command: /Library/Frameworks/R.framework/Resources/bin/R CMD INSTALL ggtreeDendro StartedAt: 2024-10-16 16:57:15 -0400 (Wed, 16 Oct 2024) EndedAt: 2024-10-16 16:57:22 -0400 (Wed, 16 Oct 2024) EllapsedTime: 6.3 seconds RetCode: 0 Status: OK