Package: ggtree Version: 3.12.0 Command: E:\biocbuild\bbs-3.19-bioc\R\bin\R.exe CMD INSTALL ggtree StartedAt: 2024-10-16 16:35:43 -0400 (Wed, 16 Oct 2024) EndedAt: 2024-10-16 16:36:26 -0400 (Wed, 16 Oct 2024) EllapsedTime: 43.2 seconds RetCode: 0 Status: OK