Package: ggtree Version: 3.12.0 Command: E:\biocbuild\bbs-3.19-bioc\R\bin\R.exe CMD check --no-multiarch --install=check:ggtree.install-out.txt --library=E:\biocbuild\bbs-3.19-bioc\R\library --no-vignettes --timings ggtree_3.12.0.tar.gz StartedAt: 2024-10-17 01:57:50 -0400 (Thu, 17 Oct 2024) EndedAt: 2024-10-17 01:59:24 -0400 (Thu, 17 Oct 2024) EllapsedTime: 94.0 seconds RetCode: 0 Status: OK CheckDir: ggtree.Rcheck Warnings: 0