Package: ggtree Version: 3.12.0 Command: chmod a+r ggtree -R && E:\biocbuild\bbs-3.19-bioc\R\bin\R.exe CMD build --keep-empty-dirs --no-resave-data ggtree StartedAt: 2024-10-16 19:27:41 -0400 (Wed, 16 Oct 2024) EndedAt: 2024-10-16 19:28:13 -0400 (Wed, 16 Oct 2024) EllapsedTime: 32.4 seconds RetCode: 0 Status: OK PackageFile: ggtree_3.12.0.tar.gz PackageFileSize: 354.2 KiB