Package: ggtree Version: 3.12.0 Command: F:\biocbuild\bbs-3.19-bioc\R\bin\R.exe CMD INSTALL ggtree StartedAt: 2024-06-26 15:59:21 -0400 (Wed, 26 Jun 2024) EndedAt: 2024-06-26 15:59:53 -0400 (Wed, 26 Jun 2024) EllapsedTime: 31.7 seconds RetCode: 0 Status: OK