Package: ggtree Version: 3.12.0 Command: /Library/Frameworks/R.framework/Resources/bin/R CMD INSTALL ggtree StartedAt: 2024-10-16 15:47:19 -0400 (Wed, 16 Oct 2024) EndedAt: 2024-10-16 15:47:49 -0400 (Wed, 16 Oct 2024) EllapsedTime: 30.3 seconds RetCode: 0 Status: OK