Package: ggtree Version: 3.12.0 Command: rm -rf ggtree.buildbin-libdir && mkdir ggtree.buildbin-libdir && /Users/biocbuild/BBS/utils/build-universal.sh ggtree_3.12.0.tar.gz /Library/Frameworks/R.framework/Resources/bin/R ggtree.buildbin-libdir StartedAt: 2024-10-17 16:16:19 -0400 (Thu, 17 Oct 2024) EndedAt: 2024-10-17 16:16:52 -0400 (Thu, 17 Oct 2024) EllapsedTime: 32.9 seconds RetCode: 0 Status: OK PackageFile: ggtree_3.12.0.tgz PackageFileSize: 916.6 KiB