Package: ggtree Version: 3.12.0 Command: /Library/Frameworks/R.framework/Resources/bin/R CMD check --install=check:ggtree.install-out.txt --library=/Library/Frameworks/R.framework/Resources/library --no-vignettes --timings ggtree_3.12.0.tar.gz StartedAt: 2024-06-10 17:17:21 -0400 (Mon, 10 Jun 2024) EndedAt: 2024-06-10 17:19:39 -0400 (Mon, 10 Jun 2024) EllapsedTime: 137.4 seconds RetCode: 0 Status: OK CheckDir: ggtree.Rcheck Warnings: 0