Package: ggtree Version: 3.12.0 Command: /Library/Frameworks/R.framework/Resources/bin/R CMD INSTALL ggtree StartedAt: 2024-10-16 16:56:11 -0400 (Wed, 16 Oct 2024) EndedAt: 2024-10-16 16:56:24 -0400 (Wed, 16 Oct 2024) EllapsedTime: 12.2 seconds RetCode: 0 Status: OK