Package: ggtree Version: 3.12.0 Command: /Library/Frameworks/R.framework/Resources/bin/R CMD build --keep-empty-dirs --no-resave-data ggtree StartedAt: 2024-10-17 01:21:41 -0400 (Thu, 17 Oct 2024) EndedAt: 2024-10-17 01:21:59 -0400 (Thu, 17 Oct 2024) EllapsedTime: 17.1 seconds RetCode: 0 Status: OK PackageFile: ggtree_3.12.0.tar.gz PackageFileSize: 354.1 KiB