Package: ggtree Version: 3.12.0 Command: rm -rf ggtree.buildbin-libdir && mkdir ggtree.buildbin-libdir && /Users/biocbuild/BBS/utils/build-universal.sh ggtree_3.12.0.tar.gz /Library/Frameworks/R.framework/Resources/bin/R ggtree.buildbin-libdir StartedAt: 2024-10-18 18:44:23 -0400 (Fri, 18 Oct 2024) EndedAt: 2024-10-18 18:44:40 -0400 (Fri, 18 Oct 2024) EllapsedTime: 17.1 seconds RetCode: 0 Status: OK PackageFile: ggtree_3.12.0.tgz PackageFileSize: 914.9 KiB