Package: ggspavis Version: 1.10.0 Command: E:\biocbuild\bbs-3.19-bioc\R\bin\R.exe CMD INSTALL ggspavis StartedAt: 2024-10-16 16:26:47 -0400 (Wed, 16 Oct 2024) EndedAt: 2024-10-16 16:27:20 -0400 (Wed, 16 Oct 2024) EllapsedTime: 33.0 seconds RetCode: 0 Status: OK